BEGIN:VCALENDAR
VERSION:2.0
PRODID:-//hssauditemp.bitkit.dk//NONSGML The Hotel Show Saudi Arabia//EN
METHOD:REQUEST
BEGIN:VEVENT
UID:20260422T125134-1140035167-calendar_event
DTSTAMP:20260422T125134Z
DTSTART:20230910T160000
DTEND:20230912T220000
LOCATION:Riyadh Front Exhibition & Conference Center
SUMMARY:The Hotel Show Saudi Arabia
DESCRIPTION:10 - 12 SEPTEMBER 2023 | RIYADH FRONT EXHIBITION & CONFERENCE CENTER | The Hotel Show Saudi Arabia is where the Kingdom’s hotel and hospitality industry reunites to trade, network and be inspired.
BEGIN:VALARM
TRIGGER:PT1W
ACTION:DISPLAY
DESCRIPTION:Reminder
END:VALARM
END:VEVENT
END:VCALENDAR
